BEGIN:VCALENDAR
VERSION:2.0
PRODID:-//Centro Cultural - ECPv6.0.6//NONSGML v1.0//EN
CALSCALE:GREGORIAN
METHOD:PUBLISH
X-WR-CALNAME:Centro Cultural
X-ORIGINAL-URL:https://www.udep.edu.pe/centrocultural
X-WR-CALDESC:Eventos para Centro Cultural
REFRESH-INTERVAL;VALUE=DURATION:PT1H
X-Robots-Tag:noindex
X-PUBLISHED-TTL:PT1H
BEGIN:VTIMEZONE
TZID:America/Lima
BEGIN:STANDARD
TZOFFSETFROM:-0500
TZOFFSETTO:-0500
TZNAME:-05
DTSTART:20230101T000000
END:STANDARD
END:VTIMEZONE
BEGIN:VEVENT
DTSTART;VALUE=DATE:20230914
DTEND;VALUE=DATE:20230915
DTSTAMP:20260425T102558
CREATED:20230913T014817Z
LAST-MODIFIED:20230913T152512Z
UID:1730-1694649600-1694735999@www.udep.edu.pe
SUMMARY:Ciencia para todos: "Automatización y optimización de procesos para los retos y brechas tecnológicas de la región norte"
DESCRIPTION:Te invitamos a participar de la tercer jornada de Ciencia para todos\, titulada “Automatización y optimización de procesos para los retos y brechas tecnológicas de la región norte”\, conferencia que estará a cargo del doctor William Ipanaqué Alama\, profesor de la Facultad de Ingeniería y ganador de la Clase Magistral 2022\, convocada por la Universidad de Piura. \n Jueves\, 14 de septiembre\n 7:00 p. m.\n Auditorio A (Edificio A\, ex Confucio).\n ¡Ingreso libre! (previa inscripción)\n REGÍSTRATE: https://forms.gle/wSDLpNqCA1GytMH16\n\nTe esperamos
URL:https://www.udep.edu.pe/centrocultural/event/ciencia-para-todos-automatizacion-y-optimizacion-de-procesos-para-los-retos-y-brechas-tecnologicas-de-la-region-norte/
LOCATION:Sede Piura\, Av. Ramón Mugica 131\, Urb. San Eduardo. Piura\, Piura\, Piura\, Perú
ATTACH;FMTTYPE=image/png:https://www.udep.edu.pe/centrocultural/wp-content/uploads/sites/16/2023/09/Automatizacion-de-procesos-1.png
END:VEVENT
END:VCALENDAR